BEGIN:VCALENDAR
VERSION:2.0
PRODID:www.mango-office.ru
BEGIN:VEVENT
UID:69eb683557424
DTSTART:20250603T060000Z
SEQUENCE:0
TRANSP:OPAQUE
URL:https://hrexpo.pro/
LOCATION:Инновационный кластер Ломоносов
SUMMARY:HR Expo 2025
CLASS:PUBLIC
DTSTAMP:20260424T125517Z
END:VEVENT
END:VCALENDAR