BEGIN:VCALENDAR
VERSION:2.0
PRODID:www.mango-office.ru
BEGIN:VEVENT
UID:69ea81ec6f284
DTSTART:20250321T060000Z
SEQUENCE:0
TRANSP:OPAQUE
URL:https://globaltechforum.ru/
LOCATION:Кластер «Ломоносов»\nМосква\, Раменс
 кий бульвар\, д.1
SUMMARY:GLOBAL TECH FORUM 2025
CLASS:PUBLIC
DTSTAMP:20260423T203244Z
END:VEVENT
END:VCALENDAR