BEGIN:VCALENDAR
VERSION:2.0
PRODID:www.mango-office.ru
BEGIN:VEVENT
UID:69e4d4189ab91
DTSTART:20241014T210000Z
SEQUENCE:0
TRANSP:OPAQUE
URL:https://customer-management.ru/
LOCATION:Москва\, DoubleTree by Hilton Moscow-Marina Hotel
SUMMARY:Customer Experience Forum
CLASS:PUBLIC
DTSTAMP:20260419T130944Z
END:VEVENT
BEGIN:VEVENT
UID:69e4d4189abf4
DTSTART:20241016T210000Z
SEQUENCE:0
TRANSP:OPAQUE
URL:https://customer-management.ru/
LOCATION:Москва\, DoubleTree by Hilton Moscow-Marina Hotel
SUMMARY:Customer Experience Forum день 2
CLASS:PUBLIC
DTSTAMP:20260419T130944Z
END:VEVENT
END:VCALENDAR